BEGIN:VCALENDAR
VERSION:2.0
PRODID:-//hacksw/handcal//NONSGML v1.0//EN
CALSCALE:GREGORIAN
BEGIN:VEVENT
DTEND:20260825T193000Z
DTSTART:20260825T173000Z
LOCATION:\, \, 
SUMMARY:End Zwanni
DTSTAMP:20260422T154801Z
UID:69e8edb10d098
END:VEVENT
END:VCALENDAR