BEGIN:VCALENDAR
VERSION:2.0
PRODID:-//hacksw/handcal//NONSGML v1.0//EN
CALSCALE:GREGORIAN
BEGIN:VEVENT
DTEND:20260602T000000Z
DTSTART:20260601T220000Z
LOCATION:\, \, 
SUMMARY:Bush.ida
DTSTAMP:20260423T105211Z
UID:69e9f9db03019
END:VEVENT
END:VCALENDAR